BEGIN:VCALENDAR
VERSION:2.0
PRODID:-//Terrapie//NONSGML kigkonsult.se iCalcreator 2.30.10//
CALSCALE:GREGORIAN
METHOD:PUBLISH
UID:f2a112d9-da83-400a-b0c1-1fa8f3384f30
X-WR-CALNAME:iCagenda
X-WR-CALDESC:Event Management Extension for Joomla!
X-WR-RELCALID:3E26604A-50F4-4449-8B3E-E4F4932D05B5
X-WR-TIMEZONE:Europe/Paris
BEGIN:VTIMEZONE
TZID:Europe/Paris
BEGIN:STANDARD
TZNAME:CET
DTSTART:20251026T030000
TZOFFSETFROM:+0200
TZOFFSETTO:+0100
RDATE:20261025T030000
RDATE:20271031T030000
END:STANDARD
BEGIN:DAYLIGHT
TZNAME:CEST
DTSTART:20260329T020000
TZOFFSETFROM:+0100
TZOFFSETTO:+0200
RDATE:20270328T020000
END:DAYLIGHT
END:VTIMEZONE
BEGIN:VEVENT
UID:06f32c01-adaf-463d-b752-b27e1196e04e
DTSTAMP:20260424T032944Z
CATEGORIES:Ateliers
CLASS:PUBLIC
DESCRIPTION;ALTREP="CID:<FFFF__=0ABBE548DFE235B58f9e8a93d@coffeebean.com>":
 &nbsp\;\n\n\n\nAtelier Proposé par\nIn Vita\n\n\nIntervenant(s)\nJean-Luc 
 Picot\n\n\nInformations et Inscriptions\nDirectement sur le site d'In Vita
 \n\n\n\n&nbsp\;\n&nbsp\;\n&nbsp\;
DTSTART:20260531T120000Z
DTEND:20260531T120000Z
GEO:00;0
LOCATION:
ORGANIZER;CN=:contact@terrapie.fr
SEQUENCE:1
SUMMARY:Astrologie des Ressources
TRANSP:OPAQUE
URL:https://www.terrapie.fr/agenda/agenda-formations/6-astrologie-des-resso
 urces/2026-05-31-14-00?iccaldate=2026-07-1
END:VEVENT
END:VCALENDAR
