BEGIN:VCALENDAR
VERSION:2.0
PRODID:-//Terrapie//NONSGML kigkonsult.se iCalcreator 2.30.10//
CALSCALE:GREGORIAN
METHOD:PUBLISH
UID:e0c36871-0a5d-43e7-bd33-ff2a6c14df3b
X-WR-CALNAME:iCagenda
X-WR-CALDESC:Event Management Extension for Joomla!
X-WR-RELCALID:3E26604A-50F4-4449-8B3E-E4F4932D05B5
X-WR-TIMEZONE:Europe/Paris
BEGIN:VTIMEZONE
TZID:Europe/Paris
BEGIN:STANDARD
TZNAME:CET
DTSTART:20251026T030000
TZOFFSETFROM:+0200
TZOFFSETTO:+0100
RDATE:20261025T030000
RDATE:20271031T030000
END:STANDARD
BEGIN:DAYLIGHT
TZNAME:CEST
DTSTART:20260329T020000
TZOFFSETFROM:+0100
TZOFFSETTO:+0200
RDATE:20270328T020000
END:DAYLIGHT
END:VTIMEZONE
BEGIN:VEVENT
UID:62afb0e6-d586-4035-911a-32d36d3b79c5
DTSTAMP:20260424T022819Z
CATEGORIES:Ateliers
CLASS:PUBLIC
DESCRIPTION;ALTREP="CID:<FFFF__=0ABBE548DFE235B58f9e8a93d@coffeebean.com>":
 &nbsp\;\n\n\n\nAtelier Proposé par\nIn Vita\n\n\nIntervenant(s)\nJean-Luc 
 Picot\n\n\nInformations et Inscriptions\nDirectement sur le site d'In Vita
 \n\n\n\n&nbsp\;\n&nbsp\;\n&nbsp\;
DTSTART:20260516T073000Z
DTEND:20260516T073000Z
GEO:00;0
LOCATION:
ORGANIZER;CN=:contact@terrapie.fr
SEQUENCE:1
SUMMARY:Pendule\, contactez votre intuition
TRANSP:OPAQUE
URL:https://www.terrapie.fr/agenda/agenda-formations/8-pendule/2026-05-16-0
 9-30?iccaldate=2024-07-1
END:VEVENT
END:VCALENDAR
